BEGIN:VCALENDAR
VERSION:2.0
PRODID:-//Woodbury CT Lions Club - ECPv6.15.20//NONSGML v1.0//EN
CALSCALE:GREGORIAN
METHOD:PUBLISH
X-ORIGINAL-URL:https://woodburyctlions.org
X-WR-CALDESC:Events for Woodbury CT Lions Club
REFRESH-INTERVAL;VALUE=DURATION:PT1H
X-Robots-Tag:noindex
X-PUBLISHED-TTL:PT1H
BEGIN:VTIMEZONE
TZID:UTC
BEGIN:STANDARD
TZOFFSETFROM:+0000
TZOFFSETTO:+0000
TZNAME:UTC
DTSTART:20240101T000000
END:STANDARD
END:VTIMEZONE
BEGIN:VEVENT
DTSTART;TZID=UTC:20251224T133000
DTEND;TZID=UTC:20251224T180000
DTSTAMP:20260421T113046
CREATED:20250114T175825Z
LAST-MODIFIED:20250114T180111Z
UID:884-1766583000-1766599200@woodburyctlions.org
SUMMARY:Christmas Eve Luminaires
DESCRIPTION:CHRISTMAS EVE LUMINAIRES\nThe Woodbury Lions will be lighting up the town this Christmas Eve with Luminaires as they have for over 30 years.\nThe show will start at the intersection of Route 6 and Sherman Hill and will proceed up Main Street to The Garden over 3\,000 Luminaires will be on display.  Luminaires will be on sale until Christmas Eve at Labonnes\, Ace Hardware and The Garden at a cost of 10.00 / Dozen. for those who want to decorate their home.\nIf you are interested in helping with the set-up connect with the Lions either at the North Green by the Bandstand  or the South Cannon Green near the Hollow between 1:30 – 2:00 pm. on Christmas Eve.
URL:https://woodburyctlions.org/event/christmas-eve-luminaires/
LOCATION:North Green by the Bandstand\, 11 Main St South\, Woodbury\, CT\, 06798\, United States
CATEGORIES:Woodbury CT Christmas Events,Woodbury CT Christmas Lights
ATTACH;FMTTYPE=image/jpeg:https://woodburyctlions.org/wp-content/uploads/2025/01/Christmas-Eve-Luminaires-Woodbury-CT-Lions-Club.jpg
ORGANIZER;CN="Woodbury CT Lions Club":MAILTO:WoodburyCTLions@gmail.com
END:VEVENT
END:VCALENDAR